BEGIN:VCALENDAR
VERSION:2.0
BEGIN:VEVENT
URL:https://www.networkinaction.com/index.php/events/viewevent/9118-professional-development?groupid=208 
DTSTART:20220505T120000
DTEND:20220505T130000
SUMMARY:Professional Development
DESCRIPTION:<p>Come join all of the Business Force members for our May professional development session.
</p>
<p>We will be starting with a book study and discussion. If you would like to participate, we will be reading, "Networking Is Not Working" by Derek Coburn to learn about the best way to build a strong referral network that will substantially grow your business.
</p><p>If you plan on joining us, please read through page 107 and come ready to join in our discussion.
</p><p>Hope to see you there.</p>


LOCATION:Zoom: https://us02web.zoom.us/j/7658230564
END:VEVENT
END:VCALENDAR