BEGIN:VCALENDAR
VERSION:2.0
BEGIN:VEVENT
URL:https://www.networkinaction.com/index.php/events/viewevent/9115-april-business-force-happy-hour?groupid=77 
DTSTART:20220428T170000
DTEND:20220428T203000
SUMMARY:April Business Force  Happy Hour
DESCRIPTION:<p>Come out and enjoy an evening of fun and cheer with all the members of our NIA Business Force Groups. You are welcome to come at any time and stay as long as you like. We always have a great time, build stronger relationships, and sometimes even refer business at our happy hours. I hope you will join us!
</p>
<p>See you there!</p>
LOCATION:Rouxpour Sugar Land, 2298 Texas Dr, Sugar Land, TX 77479
END:VEVENT
END:VCALENDAR