BEGIN:VCALENDAR
VERSION:2.0
BEGIN:VEVENT
URL:https://www.networkinaction.com/index.php/events/viewevent/9093-next-level-connections-helping-entrepreneurs-thrive-april-27th?groupid=243 
DTSTART:20220427T183000
DTEND:20220427T200000
SUMMARY:Next Level Connections — Helping Entrepreneurs Thrive - April 27th
DESCRIPTION:This is our Next Level Connections meeting for NIA National Franchise Alliance. See the official invite on LinkedIn on the NIA Global Partners page. Please invite any guests that you think would be good for the group. Here's the registration link: https://bit.ly/networkwithjenandkat427
LOCATION:Virtual
END:VEVENT
END:VCALENDAR