BEGIN:VCALENDAR
VERSION:2.0
BEGIN:VEVENT
URL:https://www.networkinaction.com/index.php/events/viewevent/9086-april-lunch-bunch-11-30-to-1-00?groupid=1 
DTSTART:20220421T113000
DTEND:20220421T234500
SUMMARY:April Lunch Bunch  11:30 to 1:00 
DESCRIPTION:<p>Warehouse 72 hosts our April Lunch Bunch! Great food and networking! Open to NIA B2B, Bellaire, Galleria, Memorial Park, WBB & WBN members + guest.
</p>
<p>Please RSVP if you plan on attending! This a come and go event. </p>
LOCATION:warehouse 72 
END:VEVENT
END:VCALENDAR