BEGIN:VCALENDAR
VERSION:2.0
BEGIN:VEVENT
URL:https://www.networkinaction.com/index.php/events/viewevent/9083-coffee-connections-4th-thursday-8a-9-30a-cst-the-connection-cafe-optional?groupid=212 
DTSTART:20220428T080000
DTEND:20220428T093000
SUMMARY:Coffee Connections | 4th Thursday 8a-9:30a CST | The Connection Cafe [optional]
DESCRIPTION:<p>An optional social networking gathering of NIA members from all groups and their guests. Feel free to come and go as you are available at The Connection Cafe at Brentwood Baptist.</p>
LOCATION:7777 Concord Rd, Brentwood, TN 37027
END:VEVENT
END:VCALENDAR