BEGIN:VCALENDAR
VERSION:2.0
BEGIN:VEVENT
URL:https://www.networkinaction.com/index.php/events/viewevent/8846-tribe-flower-mound?groupid=210 
DTSTART:20220713T030000
DTEND:20220713T043000
SUMMARY:Tribe Flower Mound
DESCRIPTION:<p>The monthly networking meeting is a fantastic way to meet prospective business contacts. You may develop valuable relationships that can assist you in growing your company. This meeting is also an excellent opportunity to learn more about how Network In Action may help you develop your business.</p>
LOCATION:zoomwithmikemontes.com
END:VEVENT
END:VCALENDAR