BEGIN:VCALENDAR
VERSION:2.0
BEGIN:VEVENT
URL:https://www.networkinaction.com/index.php/events/viewevent/8845-tribe-flower-mound?groupid=210 
DTSTART:20220608T150000
DTEND:20220608T163000
SUMMARY:Tribe Flower Mound
DESCRIPTION:<p>The monthly networking meeting is a great opportunity to get connected with other professionals in the area. You can make valuable connections that can help you grow your business. The meeting is also a great opportunity to learn more about how Network In Action can help you grow your business.</p>
LOCATION:zoomwithmikemontes.com
END:VEVENT
END:VCALENDAR