BEGIN:VCALENDAR
VERSION:2.0
BEGIN:VEVENT
URL:https://www.networkinaction.com/index.php/events/viewevent/8834-nia-professionals-happy-hour-food-whiskey-fun 
DTSTART:20220428T163000
DTEND:20220428T183000
SUMMARY:NIA PROFESSIONALS HAPPY HOUR - FOOD, WHISKEY, FUN!
DESCRIPTION:<p>NIA PROFESSIONALS HAPPY HOUR - FOOD, WHISKEY, FUN!</p><p>THURSDAY, APRIL 28, 2022 from 4:30 to 6:30 pm!</p><p>Federal American Grill, ,727 W Grand Pkwy S. Katy, TX 77494</p><p>Come on out and socialize and network with your fellow NIA Professionals Members and guests.</p><p>Please feel free to invite people you think might be interested in joining or who would be a good fit for our groups.</p><p>Open to all.   Invite your clients, customers, business associates, spouses, friends, etc.</p><p>PLEASE INVITE GUESTS TO THIS EVENT.</p><p>Be sure to bring plenty of business cards and be ready to network.</p>
LOCATION:Federal American Grill, ,727 W Grand Pkwy S. Katy, TX 77494
END:VEVENT
END:VCALENDAR