BEGIN:VCALENDAR
VERSION:2.0
BEGIN:VEVENT
URL:https://www.networkinaction.com/index.php/events/viewevent/8833-lunch-refresh?groupid=237 
DTSTART:20220527T120000
DTEND:20220527T130000
SUMMARY:Lunch & Refresh
DESCRIPTION:<p>Let's lunch and mastermind together on overcoming entrepreneurial burnout - vulnerability and solution-seeking required!</p>Food draws us together, so let's share and collaborate on the challenge we all face in our businesses: burnout.<br /><br />
LOCATION:Stone Town Grill, 705 32nd Ave E, West Fargo, ND 58078
END:VEVENT
END:VCALENDAR