BEGIN:VCALENDAR
VERSION:2.0
BEGIN:VEVENT
URL:https://www.networkinaction.com/index.php/events/viewevent/8832-monthly-meeting?groupid=237 
DTSTART:20220511T140000
DTEND:20220511T153000
SUMMARY:Monthly Meeting
DESCRIPTION:<p>Introduction meeting for the NIA Safe Harbor group! Block it on your calendars and make it happen. :D</p><p>We'll be doing an introductory meeting to make sure we're all caught up and on the same page about what each of us contributes to make NIA Safe Harbor a community like no other. Come prepared to introduce yourself and your business and get things off to an excellent start. :)</p><p>The first round of drinks and a shared appetizer is on me, so come ready to partake as well. ;)<br /></p>
LOCATION:Jasper's Hotel, 215 Broadway N, Fargo, ND 58102
END:VEVENT
END:VCALENDAR