BEGIN:VCALENDAR
VERSION:2.0
BEGIN:VEVENT
URL:https://www.networkinaction.com/index.php/events/viewevent/8831-tribe-flower-mound?groupid=210 
DTSTART:20220511T150000
DTEND:20220511T163000
SUMMARY:Tribe Flower Mound
DESCRIPTION:Join us as our Tribe Flower Mound group kicks off with another great meeting. We are in month two and have some great content planned.
LOCATION:zoomwithmikemontes.com
END:VEVENT
END:VCALENDAR