BEGIN:VCALENDAR
VERSION:2.0
BEGIN:VEVENT
URL:https://www.networkinaction.com/index.php/events/viewevent/8830-tribe-flower-mound?groupid=210 
DTSTART:20220413T150000
DTEND:20220413T163000
SUMMARY:Tribe Flower Mound
DESCRIPTION:I'm excited to kick off our journey together! I can't wait to see you all there!
LOCATION:zoomwithmikemontes.com
END:VEVENT
END:VCALENDAR