BEGIN:VCALENDAR
VERSION:2.0
BEGIN:VEVENT
URL:https://www.networkinaction.com/index.php/events/viewevent/8820-monthly-meeting?groupid=68 
DTSTART:20220414T153000
DTEND:20220414T170000
SUMMARY:Monthly Meeting
DESCRIPTION:
LOCATION:BUCA di BEPPO, 5192 Buffalo Speedway
END:VEVENT
END:VCALENDAR