BEGIN:VCALENDAR
VERSION:2.0
BEGIN:VEVENT
URL:https://www.networkinaction.com/index.php/events/viewevent/8790-cypress-monthly-meeting-april-2022?groupid=11 
DTSTART:20220421T160000
DTEND:20220421T173000
SUMMARY:Cypress Monthly Meeting - April 2022
DESCRIPTION:Thursday April 21 we convene at 4 PM at BBs to meet and greet new members and guests and promote activity in our personal referral network and take away valuable business building ideas. Please note new start time at 4 PM. Please confirm your meeting guests and RSVP to Rich at (713)705-6095..   
LOCATION:BBs, 26010 Hempstead Hwy, Cypress, TX 77433
END:VEVENT
END:VCALENDAR