BEGIN:VCALENDAR
VERSION:2.0
BEGIN:VEVENT
URL:https://www.networkinaction.com/index.php/events/viewevent/8782-westchase-business-force-monthly-meeting?groupid=77 
DTSTART:20220412T150000
DTEND:20220412T163000
SUMMARY:Westchase Business Force Monthly Meeting
DESCRIPTION:<p>It's time for our April meeting.  Come out and join the members of Westchase Business Force for our monthly meeting to network with the elite business owners in our group.  We have a great meeting planned and you will want to be there.</p>
LOCATION:Saltgrass Steakhouse, 8943 Katy Fwy, Houston, TX 77024
END:VEVENT
END:VCALENDAR