BEGIN:VCALENDAR
VERSION:2.0
BEGIN:VEVENT
URL:https://www.networkinaction.com/index.php/events/viewevent/8689-grit-city-monthly-meeting?groupid=196 
DTSTART:20220810T150000
DTEND:20220811T163000
SUMMARY:Grit City Monthly Meeting 
RRULE:FREQ=MONTHLY;UNTIL=20230208T000000
DESCRIPTION:In person monthly meeting.  
LOCATION:Moctezuma's Tacoma 4102 South 56th Street, Tacoma, WA 98409
END:VEVENT
END:VCALENDAR