BEGIN:VCALENDAR
VERSION:2.0
BEGIN:VEVENT
URL:https://www.networkinaction.com/index.php/events/viewevent/8684-first-meeting?groupid=237 
DTSTART:20220413T020000
DTEND:20220413T033000
SUMMARY:First Meeting!
DESCRIPTION:
LOCATION:Teddy's Eatery & Parlor, 212 Broadway N, Fargo, ND 58102
END:VEVENT
END:VCALENDAR