BEGIN:VCALENDAR
VERSION:2.0
BEGIN:VEVENT
URL:https://www.networkinaction.com/index.php/events/viewevent/8683-nia-april-social-mixer?groupid=216 
DTSTART:20220426T183000
DTEND:20220426T200000
SUMMARY:NIA - April Social Mixer
DESCRIPTION:<p>Guests are welcomed. During our informal Monthly Mixer, we will get to know, like, and trust each other.  Also, if you have a like-minded guest who would make a great fit for our group(s), please invite them. We will meet at FIWE Caribbean Cuisine, 410 Evernia, Street, West Palm Beach, FL 33401.<br /></p><br />

LOCATION:FIWE Caribbean Cuisine, 410 Evernia St Unit 108, West Palm Beach, FL 33401
END:VEVENT
END:VCALENDAR