BEGIN:VCALENDAR
VERSION:2.0
BEGIN:VEVENT
URL:https://www.networkinaction.com/index.php/events/viewevent/8679-mandatory-virtual-general-member-meeting-tuesday-april-12th-at-9-00am?groupid=133 
DTSTART:20220412T090000
DTEND:20220412T103000
SUMMARY:Mandatory Virtual General Member Meeting - Tuesday, April 12th at 9:00am
DESCRIPTION:<p>Join us for our first General Member Meeting.  These meetings are virtual and go towards your Guaranteed ROI.  We will always use the following link to meet:  http://zoomwithdrroundtree.com.  We will also have a unique agenda each month and will try to meet on the 2nd Tuesday of each month unless otherwise notified.<br /></p><br />
LOCATION:zoomwithdrroundtree.com
END:VEVENT
END:VCALENDAR