BEGIN:VCALENDAR
VERSION:2.0
BEGIN:VEVENT
URL:https://www.networkinaction.com/index.php/events/viewevent/8671-nia-launch-n-learn-thursday-april-7th-3-30pm?groupid=136 
DTSTART:20220407T153000
DTEND:20220407T163000
SUMMARY:NIA Launch 'n Learn - Thursday, April 7th @ 3:30pm 
DESCRIPTION:<p>Join us for this informational session to discover how Network in Action is growing in South Florida.
</p><p>We are looking to partner with business leaders who want to grow their businesses intentionally through a network of like-minded professionals.
</p><p>No other networking organization in the country offers a guarantee on your investment! To find out more register at:  https://bit.ly/LaunchnLearn-NIA.
</p><br />
LOCATION:https://bit.ly/LaunchnLearn-NIA
END:VEVENT
END:VCALENDAR