BEGIN:VCALENDAR
VERSION:2.0
BEGIN:VEVENT
URL:https://www.networkinaction.com/index.php/events/viewevent/8670-business-owner-networking-bring-a-friend?groupid=236 
DTSTART:20220328T150000
DTEND:20220328T163000
SUMMARY:Business Owner Networking - Bring a friend!
DESCRIPTION:We will have speed networking, light bites, and first drink is on me!
LOCATION:Lulu Restaurant 
END:VEVENT
END:VCALENDAR