BEGIN:VCALENDAR
VERSION:2.0
BEGIN:VEVENT
URL:https://www.networkinaction.com/index.php/events/viewevent/8668-nia-cy-fair-connectors-may-meeting?groupid=12 
DTSTART:20220517T150000
DTEND:20220517T163000
SUMMARY:NIA Cy-Fair Connectors May Meeting
DESCRIPTION:Cy-Fair Connectors May Meeting
LOCATION:World of Beer, 9945 Barker Cypress Rd., Cypress, 77433
END:VEVENT
END:VCALENDAR