BEGIN:VCALENDAR
VERSION:2.0
BEGIN:VEVENT
URL:https://www.networkinaction.com/index.php/events/viewevent/8666-professional-development?groupid=77 
DTSTART:20220407T120000
DTEND:20220407T130000
SUMMARY:Professional Development
DESCRIPTION:<p>Come join all of the Business Force members for our first professional development session.
</p>
<p>We will be starting with a book study and discussion.  If you would like to participate, we will be reading, "Networking Is Not Working" by Derek Coburn to learn about the best way to build a strong referral network that will substantially grow your business.
</p><p>You can order the book here:  https://www.amazon.com/Networking-Not-Working-Collecting-Connections/dp/1940858089/ref=sr_1_2?crid=1CZW81CEE4AV1&keywords=networking+is+not+working&pldnSite=1&qid=1647989324&sprefix=networking+is+not+working%2Caps%2C102&sr=8-2
</p><p>If you plan on joining us, please read through page 61 and come ready to join in our discussion.
</p><p>Hope to see you there.</p>




LOCATION:Zoom: https://us02web.zoom.us/j/86407629198?pwd=Qm9nc3dMbE13MTljdCtDTWJtSlhmdz09, Passcode: 308839
END:VEVENT
END:VCALENDAR