BEGIN:VCALENDAR
VERSION:2.0
BEGIN:VEVENT
URL:https://www.networkinaction.com/index.php/events/viewevent/8601-network-with-the-nation-apr-6-3-30-5-00-pm-cdt?groupid=240 
DTSTART:20220406T153000
DTEND:20220406T170000
SUMMARY:Network With The Nation | Apr 6, 3:30 - 5:00 pm CDT
DESCRIPTION:This is your chance to connect with members across the country!

Go to https://www.eventbrite.com/e/network-with-the-nation-april-6-330-pm-to-500-pm-cst-tickets-304275525287 to learn more about this event!

Join us on Zoom at www.ZoomWithNIA.com

We hope to see you there!
LOCATION:United States
END:VEVENT
END:VCALENDAR