BEGIN:VCALENDAR
VERSION:2.0
BEGIN:VEVENT
URL:https://www.networkinaction.com/index.php/events/viewevent/8445-cougar-connection-central-monthly-meeting?groupid=14 
DTSTART:20220413T153000
DTEND:20220413T170000
SUMMARY:Cougar Connection - Central Monthly Meeting
DESCRIPTION:<p>Cougar Connection Network in Action Central - Come meet new members and guests!  We will have a great networking activity so be prepared to create connections!!!  </p><p><strong><u>REMEMBER</u></strong>: Per the guaranteed ROR you are required to attend the meeting or send a substitute. </p><br /><p>We look forward to seeing you there!!!</p><p><strong><em>Please RSVP!</em></strong></p>
LOCATION:Warehouse 72, 7620 Katy Fwy #305, Houston, TX 77024
END:VEVENT
END:VCALENDAR