BEGIN:VCALENDAR
VERSION:2.0
BEGIN:VEVENT
URL:https://www.networkinaction.com/index.php/events/viewevent/8429-march-happy-hour?groupid=147 
DTSTART:20220323T170000
DTEND:20220323T203000
SUMMARY:March Happy Hour
DESCRIPTION:<p>Come out and enjoy an evening of fun and cheer with all the members of our NIA Business Force Groups.  You are welcome to come at any time and stay as long as you like.  We always have a great time, build stronger relationships, and sometimes even refer business at our happy hours.  I hope you will join us!</p>See you there!
LOCATION:Yellow Rose Distillery, 1224 North Post Oak Road, Suite 120, Houston, TX  77055 
END:VEVENT
END:VCALENDAR