BEGIN:VCALENDAR
VERSION:2.0
BEGIN:VEVENT
URL:https://www.networkinaction.com/index.php/events/viewevent/8406-introductory-meeting?groupid=215 
DTSTART:20220413T150000
DTEND:20220413T163000
SUMMARY:Introductory Meeting
RRULE:FREQ=MONTHLY;UNTIL=20230413T000000
DESCRIPTION:<p>Come and get Mastermind content for every level of your business and goals. Imagine receiving the training that helps you be just 90 days from building a 7-figure business.</p>
LOCATION:5 N Front St, Yakima, WA 98901
END:VEVENT
END:VCALENDAR