BEGIN:VCALENDAR
VERSION:2.0
BEGIN:VEVENT
URL:https://www.networkinaction.com/index.php/events/viewevent/8402-nia-monthly-members-meeting-zoom?groupid=29 
DTSTART:20220414T150000
DTEND:20220414T163000
SUMMARY:NIA Monthly Members Meeting - Zoom
DESCRIPTION:<p>Sumair Abro is inviting you to a scheduled Zoom meeting.
</p><p>Topic: NIA Monthly Members Meeting - Zoom
</p><p>Time: April 14, 03:00 PM Eastern Time (US and Canada)
</p><p>Join Zoom Meeting
</p><p>https://us02web.zoom.us/j/9018421246
</p><p>Meeting ID: 901 842 1246
</p><p>One tap mobile
</p><p>+13017158592,,9018421246# US (Washington D.C)
</p><p>+13126266799,,9018421246# US (Chicago)
</p><p>Dial by your location
</p><p>+1 301 715 8592 US (Washington D.C)
</p><p>+1 312 626 6799 US (Chicago)
</p><p>+1 646 558 8656 US (New York)
</p><p>+1 669 900 9128 US (San Jose)
</p><p>+1 253 215 8782 US (Tacoma)
</p><p>+1 346 248 7799 US (Houston)
</p><p>Meeting ID: 901 842 1246
</p><p>Find your local number: https://us02web.zoom.us/u/kdJjaS7UlN</p>
LOCATION:https://us02web.zoom.us/j/9018421246
END:VEVENT
END:VCALENDAR