BEGIN:VCALENDAR
VERSION:2.0
BEGIN:VEVENT
URL:https://www.networkinaction.com/index.php/events/viewevent/8380-speaker-series-candy-barone-you-empowered-strong?groupid=223 
DTSTART:20220324T130000
DTEND:20220324T141500
SUMMARY:Speaker Series | Candy Barone: You Empowered Strong!
DESCRIPTION:Candy Barone (CCP, MBA, BSME), CEO of You Empowered Strong, LLC, as known as the “Pull-No-Punches” Accountability Powerhouse is a certified coach, business consultant, professional speaker, and author. She is a master in creating a greater return on the energy and investment of time people expend. Candy’s diverse and expansive leadership experience (nearly 20 years with multiple Fortune 500 companies) has provided her with extensive tools to help grow business professionals and future leaders, build exceptional, high-performing teams, and stretch successful people further out of their existing comfort zones.
LOCATION:United States
END:VEVENT
END:VCALENDAR