BEGIN:VCALENDAR
VERSION:2.0
BEGIN:VEVENT
URL:https://www.networkinaction.com/index.php/events/viewevent/8033-business-showcase?groupid=215 
DTSTART:20220311T180000
DTEND:20220311T201500
SUMMARY:Business Showcase
DESCRIPTION:We are introducing Amanda Frank, Emily Jameson, and Valerie Weddle on Friday to showcase their businesses. Learn more about what they have to offer our community!!
LOCATION:Schab's Bier Den 22 N 2nd St Suite 100, Yakima, WA 98901
END:VEVENT
END:VCALENDAR