BEGIN:VCALENDAR
VERSION:2.0
BEGIN:VEVENT
URL:https://www.networkinaction.com/index.php/events/viewevent/7992-network-in-action?groupid=210 
DTSTART:20220412T140000
DTEND:20220412T153000
SUMMARY:Network In Action
DESCRIPTION:
LOCATION:zoomwithmikemontes.com
END:VEVENT
END:VCALENDAR