BEGIN:VCALENDAR
VERSION:2.0
BEGIN:VEVENT
URL:https://www.networkinaction.com/index.php/events/viewevent/7979-nia-meeting?groupid=49 
DTSTART:20220310T160000
DTEND:20220310T173000
SUMMARY:NIA Meeting
DESCRIPTION:<p>Join us at Carrabba's on Thursday at 4pm! There will be a special announcement.</p>
LOCATION:Carrabba's on Tyrone Blvd
END:VEVENT
END:VCALENDAR