BEGIN:VCALENDAR
VERSION:2.0
BEGIN:VEVENT
URL:https://www.networkinaction.com/index.php/events/viewevent/7965-cy-fair-connectors-april-meeting?groupid=12 
DTSTART:20220419T150000
DTEND:20220419T163000
SUMMARY:Cy-Fair Connectors April Meeting
DESCRIPTION:NIA Cy-Fair Connectors April Meeting
LOCATION:World of Beer, 9925 Barker Cypress Rd., Cypress, 77433
END:VEVENT
END:VCALENDAR