BEGIN:VCALENDAR
VERSION:2.0
BEGIN:VEVENT
URL:https://www.networkinaction.com/index.php/events/viewevent/7963-social-mixer-tuesday-march-29th-6-30pm-majestic-ash-lounge-407-northwood-rd-wpb?groupid=133 
DTSTART:20220329T183000
DTEND:20220329T200000
SUMMARY:Social Mixer - Tuesday, March 29th @ 6:30pm - Majestic Ash Lounge, 407 Northwood Rd., WPB
DESCRIPTION:During our Social Mixer, we will relax and get to know each other while enjoying scrumptious appetizers and a drink on me. Guests are welcome.  
LOCATION:Majestic Ash Lounge, 407 Northwood Road, West Palm Beach, FL  33407
END:VEVENT
END:VCALENDAR