BEGIN:VCALENDAR
VERSION:2.0
BEGIN:VEVENT
URL:https://www.networkinaction.com/index.php/events/viewevent/7960-required-virtual-general-member-meeting-zoomwithdrroundtree-com?groupid=133 
DTSTART:20220308T090000
DTEND:20220308T100000
SUMMARY:Required Virtual General Member Meeting @ zoomwithdrroundtree.com
DESCRIPTION:During this one-hour required monthly meeting, we will have a guest speaker who will bring value to our businesses.  We will network and see where we can support each other's business growth.
LOCATION:zoomwithdrroundtree.com
END:VEVENT
END:VCALENDAR