BEGIN:VCALENDAR
VERSION:2.0
BEGIN:VEVENT
URL:https://www.networkinaction.com/index.php/events/viewevent/7948-florida-forever-forward-launch-and-leran?groupid=238 
DTSTART:20220315T053000
DTEND:20220315T063000
SUMMARY:Florida Forever Forward Launch and Leran
DESCRIPTION:<p>This is our 2nd "Launch and Learn" event to build our group!!  Please share across your network and invite all!!</p><p>Please direct to this link:</p><br /><p>https://www.eventbrite.com/e/network-in-action-global-partners-launch-learn-march-15-2022-tickets-288936786707?utm-campaign=social&utm-content=attendeeshare&utm-medium=discovery&utm-term=listing&utm-source=cp&aff=escb</p>
LOCATION:Virtual via ZOOM
END:VEVENT
END:VCALENDAR