BEGIN:VCALENDAR
VERSION:2.0
BEGIN:VEVENT
URL:https://www.networkinaction.com/index.php/events/viewevent/7947-vbf-houston-veterans-chamber-happy-hour?groupid=147 
DTSTART:20220310T170000
DTEND:20220310T203000
SUMMARY:VBF & Houston Veterans Chamber Happy Hour
DESCRIPTION:<p>Come out and join the top business owners and professionals of our Veterans Business Force group and the Houston Regional Veterans Chamber of Commerce for an evening of comaraderie, great beer, and cigars.</p>You don't have to be a veteran or smoke cigars to get in on this event.  If you would like to network with great veteran business owners, you are welcome to join us!
LOCATION:4J Brewing, 1348 Cedar Post Lane
END:VEVENT
END:VCALENDAR