BEGIN:VCALENDAR
VERSION:2.0
BEGIN:VEVENT
URL:https://www.networkinaction.com/index.php/events/viewevent/7946-building-networking-connections?groupid=208 
DTSTART:20220309T110000
DTEND:20220309T123000
SUMMARY:Building Networking Connections
DESCRIPTION:<p>Come out and join our Veterans Business Force National group to meet our members and prospective members and network with top business owners and professionals around the country to grow your business.  This is not your grandma's networking!  We are revolutionizing the business networking industry.  Come experience it for yourself.</p>
LOCATION:Zoom
END:VEVENT
END:VCALENDAR