BEGIN:VCALENDAR
VERSION:2.0
BEGIN:VEVENT
URL:https://www.networkinaction.com/index.php/events/viewevent/7945-vbf-march-meeting?groupid=147 
DTSTART:20220310T150000
DTEND:20220310T163000
SUMMARY:VBF March Meeting
DESCRIPTION:<p>It's time for our March meeting.  Come out and join the members of Veterans Business Force for our monthly meeting to network with the top business owners in our group.  We have a great meeting planned and you will want to be there.</p>
LOCATION:Saltgrass Steakhouse, 8943 Katy Fwy, Houston, TX 77024
END:VEVENT
END:VCALENDAR