BEGIN:VCALENDAR
VERSION:2.0
BEGIN:VEVENT
URL:https://www.networkinaction.com/index.php/events/viewevent/7944-slbf-march-meeting?groupid=140 
DTSTART:20220309T150000
DTEND:20220309T163000
SUMMARY:SLBF March Meeting
DESCRIPTION:<p>It's time for our March meeting.  Come out and join the members of Sugar Land Business Force for our monthly meeting to network with the top business owners in our group.  We have a great meeting planned and you will want to be there.</p>
LOCATION:Churrascos, 1520 Lake Pointe Pkwy, Ste 500, Sugar Land, TX 77478
END:VEVENT
END:VCALENDAR