BEGIN:VCALENDAR
VERSION:2.0
BEGIN:VEVENT
URL:https://www.networkinaction.com/index.php/events/viewevent/7943-wbf-march-meeting?groupid=77 
DTSTART:20220308T150000
DTEND:20220308T163000
SUMMARY:WBF March Meeting
DESCRIPTION:It's time for our March meeting.  Come out and join the members of Westchase Business Force for our monthly meeting to network with the top business owners in our group.  We have a great meeting planned and you will want to be there.
LOCATION:Saltgrass Steakhouse, 8943 Katy Fwy, Houston, TX 77024
END:VEVENT
END:VCALENDAR