BEGIN:VCALENDAR
VERSION:2.0
BEGIN:VEVENT
URL:https://www.networkinaction.com/index.php/events/viewevent/7921-grit-city-monthly-meeting?groupid=196 
DTSTART:20220413T150000
DTEND:20220413T163000
SUMMARY:Grit City Monthly Meeting 
DESCRIPTION:<p>Our monthly in person meeting.</p>
LOCATION:Fresh Look Real Estate 252 Broadway Ave Tacoma, WA 
END:VEVENT
END:VCALENDAR