BEGIN:VCALENDAR
VERSION:2.0
BEGIN:VEVENT
URL:https://www.networkinaction.com/index.php/events/viewevent/7920-monthly-meeting?groupid=68 
DTSTART:20220310T153000
DTEND:20220310T170000
SUMMARY:Monthly Meeting
DESCRIPTION:<p>Monthly opportunity to grow yourself, your business and your relationships.</p>
LOCATION:BUCA di BEPPO, 5192 Buffalo Speedway, Houston, TX 77005
END:VEVENT
END:VCALENDAR