BEGIN:VCALENDAR
VERSION:2.0
BEGIN:VEVENT
URL:https://www.networkinaction.com/index.php/events/viewevent/7894-launch-and-learn?groupid=238 
DTSTART:20220301T173000
DTEND:20220301T183000
SUMMARY:Launch and Learn
DESCRIPTION:<p>Are you, or someone you know, a business owner, professional, or C-suite executive who is great at what they do, understands the value of building strong business relationships, & would like to increase their referral business?
</p>
<p>Are you ready for the next generation of business networking? Are you open to learning about a carefully crafted blend of high tech & high touch that has the potential to propel your business forward?
</p><p>If so, join us for our Network In Action Global Partners Virtual Launch & Learn on Tuesday, March 1, 2022.
</p><p>This session will provide an overview of Network In Action, & cover the 6 things that make NIA different from other business networking groups.</p><p>Register at the link below:</p><br /><p>https://www.eventbrite.com/e/network-in-action-global-partners-launch-learn-tickets-275007604147?keep_tld=1</p>


LOCATION:Virtual via ZOOM
END:VEVENT
END:VCALENDAR