BEGIN:VCALENDAR
VERSION:2.0
BEGIN:VEVENT
URL:https://www.networkinaction.com/index.php/events/viewevent/7880-launch-learn?groupid=208 
DTSTART:20220228T110000
DTEND:20220228T123000
SUMMARY:Launch & Learn 
DESCRIPTION:<p>As we are getting ready to launch our new Veterans Business Force National group, you are invited to join us for our first meet and greet with our members and prospective members.  This will be an opportunity for you to learn about each other and begin building the relationships that will help you grow your business.</p><p>We will be meeting via Zoom.  If you are not already a member of our group, you will need to order a free ticket here (to get the link and passcodce) to join us:  https://www.eventbrite.com/e/275971316637.  </p><p>Join us and invite your friends who are veteran business owners!</p>
LOCATION:Zoom
END:VEVENT
END:VCALENDAR