BEGIN:VCALENDAR
VERSION:2.0
BEGIN:VEVENT
URL:https://www.networkinaction.com/index.php/events/viewevent/7873-lakeway-monthly-meeting?groupid=152 
DTSTART:20220420T000000
DTEND:20220420T001500
SUMMARY:Lakeway Monthly Meeting
DESCRIPTION:
LOCATION:The Gramercy -  1516 Ranch Rd 620 S Building F, Suite 200, Lakeway, TX 78734
END:VEVENT
END:VCALENDAR