BEGIN:VCALENDAR
VERSION:2.0
BEGIN:VEVENT
URL:https://www.networkinaction.com/index.php/events/viewevent/7863-cougar-connection-central-march-9th-meeting?groupid=14 
DTSTART:20220309T153000
DTEND:20220309T170000
SUMMARY:Cougar Connection Central March 9th Meeting 
DESCRIPTION:Look forward to seeing everyone at our March meeting!  Will have a great networking activity! Come meet new members and guests.  If you can't come, be sure to send a sub! 
LOCATION:Warehouse 72 7620 Katy Freeway
END:VEVENT
END:VCALENDAR