BEGIN:VCALENDAR
VERSION:2.0
BEGIN:VEVENT
URL:https://www.networkinaction.com/index.php/events/viewevent/7844-monthly-meeting-3-00-to-4-30-and-do-we-have-a-surprise-for-you?groupid=1 
DTSTART:20220310T150000
DTEND:20220310T163000
SUMMARY:Monthly Meeting 3:00 to 4:30 and do we have a surprise for you!
DESCRIPTION:
LOCATION:Warehouse 72 7620 Katy Freeway Suite 305 
END:VEVENT
END:VCALENDAR