BEGIN:VCALENDAR
VERSION:2.0
BEGIN:VEVENT
URL:https://www.networkinaction.com/index.php/events/viewevent/7843-wine-on-the-talley-patio-5-00-to-6-30?groupid=1 
DTSTART:20220223T170000
DTEND:20220223T183000
SUMMARY:Wine on the Talley Patio 5:00 to 6:30
DESCRIPTION:<p>Come and mingle with both Heights NIA and B2B NIA groups at one easy place. </p>
LOCATION:6011 Rose Street 
END:VEVENT
END:VCALENDAR