BEGIN:VCALENDAR
VERSION:2.0
BEGIN:VEVENT
URL:https://www.networkinaction.com/index.php/events/viewevent/7837-launch-learn-2?groupid=215 
DTSTART:20220309T150000
DTEND:20220309T163000
SUMMARY:Launch & Learn #2
DESCRIPTION:NIA combines networking, masterminding, social media marketing, entrepreneurial training, and more together to give our members a complete DIY package to grow their business in whatever direction they need.
LOCATION:Norm's of Yakima  5 North Front Street  Yakima, WA 98901
END:VEVENT
END:VCALENDAR